BEGIN:VCALENDAR
VERSION:2.0
PRODID:-//ChamberMaster//Event Calendar 2.0//EN
METHOD:PUBLISH
X-PUBLISHED-TTL:P3D
REFRESH-INTERVAL:P3D
CALSCALE:GREGORIAN
BEGIN:VEVENT
DTSTART:20200903T150000Z
DTEND:20200903T163000Z
X-MICROSOFT-CDO-ALLDAYEVENT:FALSE
SUMMARY:2020 State of Orange County Real Estate: Assessing the Future
DESCRIPTION:Orange County Property Appraiser Rick Singh\, CFA is proud to announce that the 2020 State of Orange County Real Estate will be presented on on Thursday\, September 3 at 11:00 a.m. - this year hosted as a virtual event! Guests can look forward to a dynamic presentation by Rick Singh as he offers valuable insight on the county's thriving real estate market. The event will also feature special guests who will join the property appraiser to discuss important topics in our community. We look forward to spending the evening with you! Follow OCPA on social media for upcoming announcements and updates about #SOCRE2020.
X-ALT-DESC;FMTTYPE=text/html:<span style="font-family: lato-regular\, HelveticaNeueW01-55Roma\, &quot\;Helvetica Neue&quot\;\, Helvetica\, Arial\, sans-serif\; font-size: 14px\; white-space: pre-wrap\;">Orange County Property Appraiser Rick Singh\, CFA is proud to announce that the 2020 State of Orange County Real Estate will be presented on on Thursday\, September 3 at 11:00 a.m. - this year hosted as a virtual event! Guests can look forward to a dynamic presentation by Rick Singh as he offers valuable insight on the county&rsquo\;s thriving real estate market. The event will also feature special guests who will join the property appraiser to discuss important topics in our community. We look forward to spending the evening with you! Follow OCPA on social media for upcoming announcements and updates about #SOCRE2020. </span>\n<div>&nbsp\;</div>\n
LOCATION:Virtual Event
UID:e.2008.12732
SEQUENCE:3
DTSTAMP:20260421T222922Z
URL:https://eocc-gzcms.preview.gochambermaster.com/events/details/2020-state-of-orange-county-real-estate-assessing-the-future-12732
END:VEVENT

END:VCALENDAR
