BEGIN:VCALENDAR
VERSION:2.0
PRODID:-//ChamberMaster//Event Calendar 2.0//EN
METHOD:PUBLISH
X-PUBLISHED-TTL:P3D
REFRESH-INTERVAL:P3D
CALSCALE:GREGORIAN
BEGIN:VEVENT
DTSTART:20181016T213000Z
DTEND:20181016T233000Z
X-MICROSOFT-CDO-ALLDAYEVENT:FALSE
SUMMARY:22 Health Open House Meet & Greet
DESCRIPTION:22 Health invites you to attend their Open House.\n\nThis is an opportunity to tour their beautiful facility and\n\nMeet and Greet Jon Merrert DO and Dan Ross\, MD.\n\nHors d'oeuvres and Cocktails provided
X-ALT-DESC;FMTTYPE=text/html:22 Health invites you to attend their Open House.<br />\nThis is an opportunity to tour their beautiful facility and<br />\nMeet and Greet Jon Merrert DO and Dan Ross\, MD.<br />\nHors d&#39\;oeuvres and Cocktails provided
LOCATION:22 Health 1052 West SR 436\, Ste 1070 Altamonte Springs\, FL 32714
UID:e.2008.9963
SEQUENCE:3
DTSTAMP:20260424T193633Z
URL:https://eocc-gzcms.preview.gochambermaster.com/events/details/22-health-open-house-meet-greet-9963
END:VEVENT

END:VCALENDAR
