BEGIN:VCALENDAR
VERSION:2.0
PRODID:-//ChamberMaster//Event Calendar 2.0//EN
METHOD:PUBLISH
X-PUBLISHED-TTL:P3D
REFRESH-INTERVAL:P3D
CALSCALE:GREGORIAN
BEGIN:VEVENT
DTSTART:20190912T210000Z
DTEND:20190913T010000Z
X-MICROSOFT-CDO-ALLDAYEVENT:FALSE
SUMMARY:CANCELLED - Chef's Gone Wild Just Desserts
DESCRIPTION:Chef's Gone Wild Just Desserts\nSample desserts\, after dinner drinks and specialty coffees for an After Hours at Lake Nona Pixon.\n\n \n\nParticipating Chef's from the following include:\n\n \n\n\n	Canvas Restaurant & Marketplace\n	Marlow's Tavern\n	Nothing Bundt Cakes\n	Keke's Breakfast Cafe\n	Coffee Cravings\n	Olive Garden\n	And More to Come...
X-ALT-DESC;FMTTYPE=text/html:Chef&#39\;s Gone Wild Just Desserts\n<div>Sample desserts\, after dinner drinks and specialty coffees for an After Hours at Lake Nona Pixon.</div>\n\n<div>&nbsp\;</div>\n\n<div>Participating Chef&#39\;s from the following include:</div>\n\n<div>&nbsp\;</div>\n\n<ul>\n	<li>Canvas Restaurant &amp\; Marketplace</li>\n	<li>Marlow&#39\;s Tavern</li>\n	<li>Nothing Bundt Cakes</li>\n	<li>Keke&#39\;s Breakfast Cafe</li>\n	<li>Coffee Cravings</li>\n	<li>Olive Garden</li>\n	<li>And More to Come...</li>\n</ul>\n
LOCATION:Lake Nona Pixon 7004 Tavistock Lakes Blvd. Orlando\, FL 32827
UID:e.2008.10866
SEQUENCE:3
DTSTAMP:20260423T162125Z
URL:https://eocc-gzcms.preview.gochambermaster.com/events/details/cancelled-chef-s-gone-wild-just-desserts-10866
END:VEVENT

END:VCALENDAR
