BEGIN:VCALENDAR
VERSION:2.0
PRODID:-//ChamberMaster//Event Calendar 2.0//EN
METHOD:PUBLISH
X-PUBLISHED-TTL:P3D
REFRESH-INTERVAL:P3D
CALSCALE:GREGORIAN
BEGIN:VEVENT
DTSTART:20190802T150000Z
DTEND:20190802T160000Z
X-MICROSOFT-CDO-ALLDAYEVENT:FALSE
SUMMARY:CANCELLED TODAY - Education Day Committee Planning Meeting
DESCRIPTION:**We have cancelled today's Education Day Meeting.  Thank you for understanding. Contact the Chamber office for additional information.  \n\n\n\n2019 Education Day Committee Planning Meeting\n\nTheme: "Oh the Places We Will Go".
X-ALT-DESC;FMTTYPE=text/html:<span style="color:#FF0000\;"><strong><span style="font-size:14px\;">**We have cancelled today&#39\;s Education Day Meeting.&nbsp\; Thank you for understanding. Contact the Chamber office for additional information.&nbsp\;&nbsp\;</span></strong></span><br />\n<br />\n2019 Education Day Committee Planning Meeting<br />\nTheme: &quot\;Oh the Places We Will Go&quot\;.
LOCATION:East Orlando Chamber office 12301 Lake Underhill Road\, Ste. 245 Orlando\, FL 32828 or by phone: 605-313-4100 Access Code: 427760#
UID:e.2008.10487
SEQUENCE:3
DTSTAMP:20260423T143500Z
URL:https://eocc-gzcms.preview.gochambermaster.com/events/details/cancelled-today-education-day-committee-planning-meeting-08-02-2019-10487
END:VEVENT

END:VCALENDAR
