BEGIN:VCALENDAR
VERSION:2.0
PRODID:-//ChamberMaster//Event Calendar 2.0//EN
METHOD:PUBLISH
X-PUBLISHED-TTL:P3D
REFRESH-INTERVAL:P3D
CALSCALE:GREGORIAN
BEGIN:VEVENT
DTSTART:20170718T223000Z
DTEND:20170719T000000Z
X-MICROSOFT-CDO-ALLDAYEVENT:FALSE
SUMMARY:Christian Victory Academy Information Meeting
DESCRIPTION:An accredited\, private school educating children since 1998. Come see and hear the testimonies of other parents on how a smaller school can boost your child's learning capabilities. We offer three programs: on-campus classes\, online courses\, and home education.
X-ALT-DESC;FMTTYPE=text/html:An accredited\, private school educating children since 1998. Come see and hear the testimonies of other parents on how a smaller school can boost your child&#39\;s learning capabilities. We offer three programs: on-campus classes\, online courses\, and home education.
LOCATION:4606 Lake Margaret Dr. Orlando\, FL 32812
UID:e.2008.7686
SEQUENCE:3
DTSTAMP:20260426T000750Z
URL:https://eocc-gzcms.preview.gochambermaster.com/events/details/christian-victory-academy-information-meeting-7686
END:VEVENT

END:VCALENDAR
