BEGIN:VCALENDAR
VERSION:2.0
PRODID:-//ChamberMaster//Event Calendar 2.0//EN
METHOD:PUBLISH
X-PUBLISHED-TTL:P3D
REFRESH-INTERVAL:P3D
CALSCALE:GREGORIAN
BEGIN:VEVENT
DTSTART:20191024T123000Z
DTEND:20191024T133000Z
X-MICROSOFT-CDO-ALLDAYEVENT:FALSE
SUMMARY:Coffee Club Nona - Sam's Club Lake Nona
DESCRIPTION:Celebrating Hispanic Heritage Month at Coffee Club Nona!
X-ALT-DESC;FMTTYPE=text/html:Celebrating Hispanic Heritage Month at Coffee Club Nona!
LOCATION:Sam's Club Lake Nona 11920 Narcoossee Road Orlando\, FL 32832
UID:e.2008.10428
SEQUENCE:3
DTSTAMP:20260423T123736Z
URL:https://eocc-gzcms.preview.gochambermaster.com/events/details/coffee-club-nona-sam-s-club-lake-nona-10-24-2019-10428
END:VEVENT

END:VCALENDAR
