BEGIN:VCALENDAR
VERSION:2.0
PRODID:-//ChamberMaster//Event Calendar 2.0//EN
METHOD:PUBLISH
X-PUBLISHED-TTL:P3D
REFRESH-INTERVAL:P3D
CALSCALE:GREGORIAN
BEGIN:VEVENT
DTSTART:20171114T133000Z
DTEND:20171114T150000Z
X-MICROSOFT-CDO-ALLDAYEVENT:FALSE
SUMMARY:Constant Contact: AutoResponder
DESCRIPTION:Autoresponder Class\n\n\n\nImagine if you could set up a simple marketing system that allowed you to capture and nurture leads for your business.  Now imagine if you could set up this system once and know that it's continually working for you while you focus your energies on other aspects that are important for your continued growth.  Introducing Autoresponder. Class originally scheduled for  10/31/2017
X-ALT-DESC;FMTTYPE=text/html:<a href="http://events.constantcontact.com/register/event?llr=8fydqrtab&amp\;oeidk=a07eenjiy4t6d4a340b" target="_blank"><span style="color:#800080\;"><u><span style="font-size:16px\;"><span style="font-family:verdana\;"><strong>Autoresponder Class</strong></span></span></u></span></a><br />\n<br />\n<span style="font-size:12px\;"><span style="font-family:verdana\;">Imagine if you could set up a simple marketing system that allowed you to capture and nurture leads for your business.&nbsp\; Now imagine if you could set up this system once and know that it&rsquo\;s continually working for you while you focus your energies on other aspects that are important for your continued growth.&nbsp\; Introducing Autoresponder. Class&nbsp\;</span></span>originally scheduled for&nbsp\; 10/31/2017
LOCATION:East Orlando Chamber of Commerce Conference Room 12301 Lake Underhill Road Suite 245 Orlando\, FL 32828
UID:e.2008.7770
SEQUENCE:3
DTSTAMP:20260425T171630Z
URL:https://eocc-gzcms.preview.gochambermaster.com/events/details/constant-contact-autoresponder-7770
END:VEVENT

END:VCALENDAR
