BEGIN:VCALENDAR
VERSION:2.0
PRODID:-//ChamberMaster//Event Calendar 2.0//EN
METHOD:PUBLISH
X-PUBLISHED-TTL:P3D
REFRESH-INTERVAL:P3D
CALSCALE:GREGORIAN
BEGIN:VEVENT
DTSTART:20201214T150000Z
DTEND:20201214T170000Z
X-MICROSOFT-CDO-ALLDAYEVENT:FALSE
SUMMARY:Dedicated Senior Medical Center OBT Open House & Ribbon Cutting
DESCRIPTION:Join us for the Ribbon Cutting & Open House for Dedicated Senior Medical Center\n\nSouth Orange Blossom Trail
X-ALT-DESC;FMTTYPE=text/html:Join us for the Ribbon Cutting &amp\; Open House for Dedicated Senior Medical Center<br />\nSouth Orange Blossom Trail&nbsp\;<br />\n&nbsp\;
LOCATION:4613 S Orange Blossom Trail Orlando\, FL 32839
UID:e.2008.12889
SEQUENCE:3
DTSTAMP:20260421T145339Z
URL:https://eocc-gzcms.preview.gochambermaster.com/events/details/dedicated-senior-medical-center-obt-open-house-ribbon-cutting-12889
END:VEVENT

END:VCALENDAR
