BEGIN:VCALENDAR
VERSION:2.0
PRODID:-//ChamberMaster//Event Calendar 2.0//EN
METHOD:PUBLISH
X-PUBLISHED-TTL:P3D
REFRESH-INTERVAL:P3D
CALSCALE:GREGORIAN
BEGIN:VEVENT
DTSTART:20180728T133000Z
DTEND:20180728T153000Z
X-MICROSOFT-CDO-ALLDAYEVENT:FALSE
SUMMARY:Digestive & Liver Center of Florida Patient Appreciation Community Breakfast
DESCRIPTION:We @ Digestive and Liver Center of Florida are hosting a Community Appreciation Breakfast on July 28th\, 2018! Aside from the generous breakfast offered\, there will be several seminars\, a Nutrition Class\, Zumba\, and Hepatitis C screening within the duration of the event. The best part is: THIS IS ABSOLUTELY FREE!!!! Open to our patients and the community alike. **Invite a friend\, family member or colleague**\n\nCome on out for a morning of fellowship and fun!! :)
X-ALT-DESC;FMTTYPE=text/html:We @ Digestive and Liver Center of Florida are hosting a Community Appreciation Breakfast on July 28th\, 2018! Aside from the generous breakfast offered\, there will be several seminars\, a Nutrition Class\, Zumba\, and Hepatitis C screening within the duration of the event. The best part is: THIS IS ABSOLUTELY FREE!!!! Open to our patients and the community alike. **Invite a friend\, family member or colleague**<br />\nCome on out for a morning of fellowship and fun!! :)
LOCATION:
UID:e.2008.9878
SEQUENCE:3
DTSTAMP:20260424T221802Z
URL:https://eocc-gzcms.preview.gochambermaster.com/events/details/digestive-liver-center-of-florida-patient-appreciation-community-breakfast-9878
END:VEVENT

END:VCALENDAR
