BEGIN:VCALENDAR
VERSION:2.0
PRODID:-//ChamberMaster//Event Calendar 2.0//EN
METHOD:PUBLISH
X-PUBLISHED-TTL:P3D
REFRESH-INTERVAL:P3D
CALSCALE:GREGORIAN
BEGIN:VEVENT
DTSTART:20181019T211500Z
DTEND:20181019T231500Z
X-MICROSOFT-CDO-ALLDAYEVENT:FALSE
SUMMARY:East Orange Community Centers Women's Night of Networking
DESCRIPTION:Join women in our local community to network\, learn and promote. All women invited. Each month we discuss different topics that help us build ourselves\, our community and our businesses.
X-ALT-DESC;FMTTYPE=text/html:Join women in our local community to network\, learn and promote. All women invited. Each month we discuss different topics that help us build ourselves\, our community and our businesses.
LOCATION:East Orange Community Center 12050 E. Colonial Drive Orlando\, FL 32826
UID:e.2008.9964
SEQUENCE:3
DTSTAMP:20260424T182046Z
URL:https://eocc-gzcms.preview.gochambermaster.com/events/details/east-orange-community-centers-women-s-night-of-networking-9964
END:VEVENT

END:VCALENDAR
