BEGIN:VCALENDAR
VERSION:2.0
PRODID:-//ChamberMaster//Event Calendar 2.0//EN
METHOD:PUBLISH
X-PUBLISHED-TTL:P3D
REFRESH-INTERVAL:P3D
CALSCALE:GREGORIAN
BEGIN:VEVENT
DTSTART:20190126T143000Z
DTEND:20190126T160000Z
X-MICROSOFT-CDO-ALLDAYEVENT:FALSE
SUMMARY:FREE PATIENT APPRECIATION BREAKFAST (NON-PATIENTS ARE WELCOMED!!)
DESCRIPTION:We @ Digestive and Liver Center of Florida will be having a FREE Patient Appreciation breakfast on Saturday\, January 26. The breakfast is totally on us as a way to give back to the community. Aside from the food\, we will be having a world-known Colorectal Surgeon named Dr. Sam Atallah speaking on various treatment options to alleviate Fecal Incontinence. In addition\, a Nutritionist will be present as well to discuss healthy eating strategies to promote better digestive health. \n\n\n\nJoin us for a morning of fun\, food\, and awareness!
X-ALT-DESC;FMTTYPE=text/html:We @ Digestive and Liver Center of Florida will be having a FREE <strong>Patient Appreciation breakfast </strong>on Saturday\, January 26. The breakfast is totally on us as a way to give back to the community. Aside from the food\, we will be having a world-known Colorectal Surgeon named Dr. Sam Atallah speaking on various treatment options to alleviate Fecal Incontinence. In addition\, a Nutritionist will be present as well to discuss healthy eating strategies to promote better digestive health.&nbsp\;<br />\n<br />\nJoin us for a morning of fun\, food\, and awareness!<br />\n<br />\n<br />\n&nbsp\;
LOCATION:100 N Dean Rd. Ste 101\, Orlando\, FL 32825
UID:e.2008.10449
SEQUENCE:3
DTSTAMP:20260424T073745Z
URL:https://eocc-gzcms.preview.gochambermaster.com/events/details/free-patient-appreciation-breakfast-non-patients-are-welcomed-10449
END:VEVENT

END:VCALENDAR
