BEGIN:VCALENDAR
VERSION:2.0
PRODID:-//ChamberMaster//Event Calendar 2.0//EN
METHOD:PUBLISH
X-PUBLISHED-TTL:P3D
REFRESH-INTERVAL:P3D
CALSCALE:GREGORIAN
BEGIN:VEVENT
DTSTART:20200102T133000Z
DTEND:20200102T143000Z
X-MICROSOFT-CDO-ALLDAYEVENT:FALSE
SUMMARY:HAPPY NEW YEAR - NO Coffee Club East - Bonefish Grill Lake Underhill
DESCRIPTION:Happy New Year!\n\nThere will be no Coffee Club East Today.\n\nMark your calendar and join us in February!
X-ALT-DESC;FMTTYPE=text/html:Happy New Year!<br />\nThere will be no Coffee Club East Today.<br />\nMark your calendar and join us in February!
LOCATION:Bonefish Grill Lake Underhill Road 12301 Lake Underhill Rd. Orlando\, FL 32828
UID:e.2008.11244
SEQUENCE:3
DTSTAMP:20260423T052110Z
URL:https://eocc-gzcms.preview.gochambermaster.com/events/details/happy-new-year-no-coffee-club-east-bonefish-grill-lake-underhill-11244
END:VEVENT

END:VCALENDAR
