BEGIN:VCALENDAR
VERSION:2.0
PRODID:-//ChamberMaster//Event Calendar 2.0//EN
METHOD:PUBLISH
X-PUBLISHED-TTL:P3D
REFRESH-INTERVAL:P3D
CALSCALE:GREGORIAN
BEGIN:VEVENT
DTSTART:20200123T133000Z
DTEND:20200123T143000Z
X-MICROSOFT-CDO-ALLDAYEVENT:FALSE
SUMMARY:Healthcare Collaborative Planning Meeting
DESCRIPTION:Healthcare Collaborative Planning Meeting
X-ALT-DESC;FMTTYPE=text/html:Healthcare Collaborative Planning Meeting<br />\n&nbsp\;
LOCATION:East Orlando Chamber 12301 Lake Underhill Road\, Ste 245 Orlando\, FL 32828 Conference Line: 605-313-4100 Access code: 427760#
UID:e.2008.12272
SEQUENCE:3
DTSTAMP:20260423T050219Z
URL:https://eocc-gzcms.preview.gochambermaster.com/events/details/healthcare-collaborative-planning-meeting-12272
END:VEVENT

END:VCALENDAR
