BEGIN:VCALENDAR
VERSION:2.0
PRODID:-//ChamberMaster//Event Calendar 2.0//EN
METHOD:PUBLISH
X-PUBLISHED-TTL:P3D
REFRESH-INTERVAL:P3D
CALSCALE:GREGORIAN
BEGIN:VEVENT
DTSTART:20171209T150000Z
DTEND:20171209T200000Z
X-MICROSOFT-CDO-ALLDAYEVENT:FALSE
SUMMARY:Holiday Inn East - UCF: HOLIDAY SHOPPING EXPO
DESCRIPTION:The Holidays are just around the corner!  Join us for our Exclusive Holiday Shopping Expo featuring unique vendors\, huge savings and gift options for the entire family!  \n\nThere will be a photo booth\, over 25 vendors\, children's activities\, raffles and more! \n\nPlease bring canned goods for the Second Harvest Food bank of Central Florida.
X-ALT-DESC;FMTTYPE=text/html:<strong><span style="color:#385723\;"><span style="font-family:times new roman\,serif\;">The Holidays are just around the corner!&nbsp\; Join us for our Exclusive Holiday Shopping Expo featuring unique vendors\, huge savings and gift options for the entire family!&nbsp\; </span></span></strong><br />\n<strong><span style="color:#385723\;"><span style="font-family:times new roman\,serif\;">There will be a photo booth\, over 25 vendors\, children&rsquo\;s activities\, raffles and more! </span></span></strong><br />\n<strong><span style="color:#385723\;"><span style="font-family:times new roman\,serif\;">Please bring canned goods for the Second Harvest Food bank of Central Florida.</span></span></strong>
LOCATION:Holiday Inn Orlando East - UCF Area 1724 N. Alafaya Trail Orlando\, FL 32826
UID:e.2008.7812
SEQUENCE:3
DTSTAMP:20260425T213221Z
URL:https://eocc-gzcms.preview.gochambermaster.com/events/details/holiday-inn-east-ucf-holiday-shopping-expo-7812
END:VEVENT

END:VCALENDAR
