BEGIN:VCALENDAR
VERSION:2.0
PRODID:-//ChamberMaster//Event Calendar 2.0//EN
METHOD:PUBLISH
X-PUBLISHED-TTL:P3D
REFRESH-INTERVAL:P3D
CALSCALE:GREGORIAN
BEGIN:VEVENT
DTSTART:20201001T040000Z
DTEND:20201101T035500Z
X-MICROSOFT-CDO-ALLDAYEVENT:FALSE
SUMMARY:JAEA Virtual Race 2 Cure Presented by FFVA Mutual
DESCRIPTION:The JA Edwards of America Race 2 Cure presented by FFVA Mutual has moved to a virtual race for 2020. \n\n \n\nThis virtual event includes the option to run or walk a 5K\, 10K\, 15K\, Half Marathon\, or Florida Breast Cancer Foundation Tribute Walk from anywhere\, any time through the month of October to raise funds for cancer research. Be a part of our team as we welcome runners\, walkers and cancer survivors to participate in our month-long event.\n\n \n\nRegistration:\n\n	5K / 10K / 15K / Half Marathon - $35\n	\n		Includes digital bib\, t-shirt and finisher medal\n		Awards for top 3 overall finishers in each distance\n	\n	\n	Florida Breast Cancer Tribute Walk - $10\n	\n		Walk one mile in honor of those who we have lost\, who are currently fighting cancer\, or who are cancer survivors.\n		Includes digital bib
X-ALT-DESC;FMTTYPE=text/html:<span style="font-family:t3font_0\,sans-serif"><span style="font-size:12.5pt">The JA Edwards of America Race 2 Cure presented by FFVA Mutual has moved to a virtual race for 2020. </span></span><br />\n&nbsp\;<br />\n<span style="font-family:t3font_0\,sans-serif"><span style="font-size:12.5pt">This virtual event includes the option to run or walk a 5K\, 10K\, 15K\, Half Marathon\, or Florida Breast Cancer Foundation Tribute Walk from <strong><u>anywhere\, any time through the month of October</u></strong> to raise funds for cancer research. Be a part of our team as we welcome runners\, walkers and cancer survivors to participate in our month-long event.</span></span><br />\n&nbsp\;<br />\n<strong><u><span style="font-family:t3font_0\,sans-serif"><span style="font-size:12.5pt">Registration:</span></span></u></strong>\n<ul>\n	<li><strong><span style="font-family:t3font_0\,sans-serif"><span style="font-size:12.5pt">5K / 10K / 15K / Half Marathon - $35</span></span></strong>\n	<ul style="list-style-type:circle">\n		<li><span style="font-family:t3font_0\,sans-serif"><span style="font-size:12.5pt">Includes digital bib\, t-shirt and finisher medal</span></span></li>\n		<li><span style="font-family:t3font_0\,sans-serif"><span style="font-size:12.5pt">Awards for top 3 overall finishers in each distance</span></span></li>\n	</ul>\n	</li>\n	<li><strong><span style="font-family:t3font_0\,sans-serif"><span style="font-size:12.5pt">Florida Breast Cancer Tribute Walk - $10</span></span></strong>\n	<ul style="list-style-type:circle">\n		<li><span style="font-family:t3font_0\,sans-serif"><span style="font-size:12.5pt">Walk one mile in honor of those who we have lost\, who are currently fighting cancer\, or who are cancer survivors.</span></span></li>\n		<li><span style="font-family:t3font_0\,sans-serif"><span style="font-size:12.5pt">Includes digital bib</span></span></li>\n	</ul>\n	</li>\n</ul>\n
LOCATION:Anywhere where you can run/walk safely!
UID:e.2008.12730
SEQUENCE:3
DTSTAMP:20260422T005719Z
URL:https://eocc-gzcms.preview.gochambermaster.com/events/details/jaea-virtual-race-2-cure-presented-by-ffva-mutual-12730
END:VEVENT

END:VCALENDAR
