BEGIN:VCALENDAR
VERSION:2.0
PRODID:-//ChamberMaster//Event Calendar 2.0//EN
METHOD:PUBLISH
X-PUBLISHED-TTL:P3D
REFRESH-INTERVAL:P3D
CALSCALE:GREGORIAN
BEGIN:VEVENT
DTSTART:20201205T003000Z
DTEND:20201205T023000Z
X-MICROSOFT-CDO-ALLDAYEVENT:FALSE
SUMMARY:KidX Club: Holiday Movie Night
DESCRIPTION:Waterford Lakes Town Center and AdventHealth invite you to wear your favorite holiday PJs and enjoy a free holiday movie! Movie TBD.\n\n\n\nMovie starts at 7:30 p.m. at The Porch (located between The Brass Tap and SimonMed). Movie is FREE! Bring your blankets/seating\, and get there early to grab your favorite spot on the lawn.
X-ALT-DESC;FMTTYPE=text/html:<p>Waterford Lakes Town Center and&nbsp\;<a href="https://www.adventhealth.com/" style="margin: 0px\; padding: 0px\; box-sizing: inherit\; background-color: transparent\; touch-action: manipulation\; color: rgb(109\, 171\, 228)\; text-decoration-line: none\; font-weight: 700\;">AdventHealth</a>&nbsp\;invite you to wear your favorite holiday PJs and enjoy a free holiday movie! Movie TBD.</p>\n\n<p><br />\nMovie starts at 7:30 p.m. at The Porch (located between The Brass Tap and SimonMed). Movie is&nbsp\;<strong>FREE!</strong>&nbsp\;Bring your blankets/seating\, and get there early to grab your favorite spot on the lawn.</p>\n
LOCATION:Waterford Lakes Town Center: 413 N. Alafaya Trail Orlando\,FL 32828 The Porch-Located behind The Brass Tap and Slapfish
UID:e.2008.12643
SEQUENCE:3
DTSTAMP:20260421T122556Z
URL:https://eocc-gzcms.preview.gochambermaster.com/events/details/kidx-club-holiday-movie-night-12643
END:VEVENT

END:VCALENDAR
