BEGIN:VCALENDAR
VERSION:2.0
PRODID:-//ChamberMaster//Event Calendar 2.0//EN
METHOD:PUBLISH
X-PUBLISHED-TTL:P3D
REFRESH-INTERVAL:P3D
CALSCALE:GREGORIAN
BEGIN:VEVENT
DTSTART:20211116T140000Z
DTEND:20211116T150000Z
X-MICROSOFT-CDO-ALLDAYEVENT:FALSE
SUMMARY:Meeting Location Change - EOCC Real Estate Advisory Council Planning Meeting
DESCRIPTION:The EOCC Real Estate Advisory Council consists of real estate industry professionals\, and the related services in the East Orange region\, to advance the real estate profession and provide community solutions. Council participants include EOCC members\, paid sponsors and participants by invitation only. The EOCC Real Estate Community Stakeholders elevate the vibrancy of the real estate climate in the East Orange region.
X-ALT-DESC;FMTTYPE=text/html:<div style="text-align: justify\;">The EOCC Real Estate Advisory Council consists of real estate industry professionals\, and the related services in the East Orange region\, to advance the real estate profession and provide community solutions. Council participants include EOCC members\, paid sponsors and participants by invitation only. The EOCC Real Estate Community Stakeholders elevate the vibrancy of the real estate climate in the East Orange region.</div>\n
LOCATION:The Orlando Law Group 12301 Lake Underhill Road Ste. 213 Orlando\, FL 32828
UID:e.2008.13507
SEQUENCE:3
DTSTAMP:20260420T110355Z
URL:https://eocc-gzcms.preview.gochambermaster.com/events/details/meeting-location-change-eocc-real-estate-advisory-council-planning-meeting-13507
END:VEVENT

END:VCALENDAR
