BEGIN:VCALENDAR
VERSION:2.0
PRODID:-//ChamberMaster//Event Calendar 2.0//EN
METHOD:PUBLISH
X-PUBLISHED-TTL:P3D
REFRESH-INTERVAL:P3D
CALSCALE:GREGORIAN
BEGIN:VEVENT
DTSTART:20190622T133000Z
DTEND:20190622T163000Z
X-MICROSOFT-CDO-ALLDAYEVENT:FALSE
SUMMARY:SCORE - Building Your Financial Plan Seminar
DESCRIPTION:This seminar is for people who have limited knowledge or understanding of basic accounting and finance.  It is intended to explain the methods and need for financial tracking\, control and generating the financial projections necessary to develop a business plan. Held in the computer lab.
X-ALT-DESC;FMTTYPE=text/html:<span style="font-size:medium"><span style="font-family:calibri"><span style="font-size:14px"><span style="font-family:tahoma">This seminar is for people who have limited knowledge or understanding of basic accounting and finance.&nbsp\; It is intended to explain the methods and need for financial tracking\, control and generating the financial projections necessary to develop a business plan. Held in the computer lab</span></span>. </span></span>
LOCATION:National Entrepreneur Center at the Fashion Square Mall 3201 E Colonial Dr\, A-20 Orlando\, FL 32803
UID:e.2008.10906
SEQUENCE:3
DTSTAMP:20260423T220053Z
URL:https://eocc-gzcms.preview.gochambermaster.com/events/details/score-building-your-financial-plan-seminar-06-22-2019-10906
END:VEVENT

END:VCALENDAR
