BEGIN:VCALENDAR
VERSION:2.0
PRODID:-//ChamberMaster//Event Calendar 2.0//EN
METHOD:PUBLISH
X-PUBLISHED-TTL:P3D
REFRESH-INTERVAL:P3D
CALSCALE:GREGORIAN
BEGIN:VEVENT
DTSTART:20180718T220000Z
DTEND:20180719T000000Z
X-MICROSOFT-CDO-ALLDAYEVENT:FALSE
SUMMARY:SCORE - Constant Contact: Digital Marketing Trends
DESCRIPTION:Join us as we look forward at just a few of the trends in digital marketing that we believe small businesses should be paying attention to in the year to come. We'll explore what the trends are and some simple ideas for jumping on and taking advantage of them.
X-ALT-DESC;FMTTYPE=text/html:Join us as we look forward at just a few of the trends in digital marketing that we believe small businesses should be paying attention to in the year to come. We&rsquo\;ll explore what the trends are and some simple ideas for jumping on and taking advantage of them.<br />\n&nbsp\;
LOCATION:National Entrepreneur Center at the Fashion Square Mall 3201 E Colonial Drive\, A-20 Orlando\, FL 32803
UID:e.2008.9831
SEQUENCE:3
DTSTAMP:20260425T004436Z
URL:https://eocc-gzcms.preview.gochambermaster.com/events/details/score-constant-contact-digital-marketing-trends-07-18-2018-9831
END:VEVENT

END:VCALENDAR
