BEGIN:VCALENDAR
VERSION:2.0
PRODID:-//ChamberMaster//Event Calendar 2.0//EN
METHOD:PUBLISH
X-PUBLISHED-TTL:P3D
REFRESH-INTERVAL:P3D
CALSCALE:GREGORIAN
BEGIN:VEVENT
DTSTART:20180124T170000Z
DTEND:20180124T183000Z
X-MICROSOFT-CDO-ALLDAYEVENT:FALSE
SUMMARY:SCORE - Lunch With A Leader: Meet Your Customers Where THEY Are
DESCRIPTION:Join us for our monthly business workshops.  We are having a special Guest Speaker address this current "Hot Topic'\, and a complimentary luncheon will be served.
X-ALT-DESC;FMTTYPE=text/html:Join us for our monthly business workshops.&nbsp\; We are having a special Guest Speaker address this current &quot\;Hot Topic&#39\;\, and a complimentary luncheon will be served.<br />\n&nbsp\;
LOCATION:National Entrepreneur Center\, Fashion Square Mall 3201 E Colonial Drive\, A-20 Orlando\, FL 32803
UID:e.2008.8595
SEQUENCE:3
DTSTAMP:20260425T133402Z
URL:https://eocc-gzcms.preview.gochambermaster.com/events/details/score-lunch-with-a-leader-meet-your-customers-where-they-are-8595
END:VEVENT

END:VCALENDAR
