BEGIN:VCALENDAR
VERSION:2.0
PRODID:-//ChamberMaster//Event Calendar 2.0//EN
METHOD:PUBLISH
X-PUBLISHED-TTL:P3D
REFRESH-INTERVAL:P3D
CALSCALE:GREGORIAN
BEGIN:VEVENT
DTSTART:20170518T130000Z
DTEND:20170518T153000Z
X-MICROSOFT-CDO-ALLDAYEVENT:FALSE
SUMMARY:SCORE - Paychex: Effectively Managing Employees
DESCRIPTION:This course is designed for small business owners or managers with leadership and supervising responsibilities.  The seminar focuses on how to retain good employees and improve their overall job satisfaction.  It covers management styles\, managing expectations\, and the importance of effective communication.
X-ALT-DESC;FMTTYPE=text/html:<span style="font-size:10pt"><span style="font-family:calibri">This course is designed for small business owners or managers with leadership and supervising responsibilities.&nbsp\; The seminar focuses on how to retain good employees and improve their overall job satisfaction.&nbsp\; It covers management styles\, managing expectations\, and the importance of effective communication.</span></span><br />\n&nbsp\;
LOCATION:National Entrepreneur Center at the Fashion Square Mall 3201 E Colonial Drive\, A-20 Orlando\, FL 32803
UID:e.2008.7612
SEQUENCE:3
DTSTAMP:20260426T040823Z
URL:https://eocc-gzcms.preview.gochambermaster.com/events/details/score-paychex-effectively-managing-employees-7612
END:VEVENT

END:VCALENDAR
