BEGIN:VCALENDAR
VERSION:2.0
PRODID:-//ChamberMaster//Event Calendar 2.0//EN
METHOD:PUBLISH
X-PUBLISHED-TTL:P3D
REFRESH-INTERVAL:P3D
CALSCALE:GREGORIAN
BEGIN:VEVENT
DTSTART:20180609T220000Z
DTEND:20180610T010000Z
X-MICROSOFT-CDO-ALLDAYEVENT:FALSE
SUMMARY:The Early Learning Coalition of Orange County: The First Five Years Gala
DESCRIPTION:The evening will consist of silent auction\, entertainment\, dinner and an opportunity to fund-a-child in your local community. For every dollar raised during this event\, the Early Learning Coalition of Orange County will receive $15.67 in return. We look forward to celebrating the children of Orange County with you!\n\nA magical night\, celebrating community champions for early learning.
X-ALT-DESC;FMTTYPE=text/html:<strong>The evening will consist of silent auction\, entertainment\, dinner and an opportunity to fund-a-child in your local community. For every dollar raised during this event\, the Early Learning Coalition of Orange County will receive $15.67 in return. We look forward to celebrating the children of Orange County with you!<br />\nA magical night\, celebrating community champions for early learning.</strong>
LOCATION:Epcot's World Showplace Pavilion 200 Epcot Center Dr Orlando\, FL 32821
UID:e.2008.8688
SEQUENCE:3
DTSTAMP:20260425T021439Z
URL:https://eocc-gzcms.preview.gochambermaster.com/events/details/the-early-learning-coalition-of-orange-county-the-first-five-years-gala-8688
END:VEVENT

END:VCALENDAR
